BEGIN:VCALENDAR
VERSION:2.0
PRODID:-//Independent College Bookstore Association - ECPv6.15.17//NONSGML v1.0//EN
CALSCALE:GREGORIAN
METHOD:PUBLISH
X-WR-CALNAME:Independent College Bookstore Association
X-ORIGINAL-URL:https://icbainc.com
X-WR-CALDESC:Events for Independent College Bookstore Association
REFRESH-INTERVAL;VALUE=DURATION:PT1H
X-Robots-Tag:noindex
X-PUBLISHED-TTL:PT1H
BEGIN:VTIMEZONE
TZID:UTC
BEGIN:STANDARD
TZOFFSETFROM:+0000
TZOFFSETTO:+0000
TZNAME:UTC
DTSTART:20230101T000000
END:STANDARD
END:VTIMEZONE
BEGIN:VEVENT
DTSTART;VALUE=DATE:20241020
DTEND;VALUE=DATE:20241023
DTSTAMP:20260421T061312
CREATED:20241007T133651Z
LAST-MODIFIED:20241007T133651Z
UID:30097-1729382400-1729641599@icbainc.com
SUMMARY:2024 Southwest College Bookstore Association Annual Conference
DESCRIPTION:Join ICBA at the 2024 SWCBA Annual Conference & Trade Show\, October 20-22 in Stillwater\, OK. ICBA CEO Jon Bibo will be in attendance and will present "Maintaining Your Independence." Hope to see everyone there!
URL:https://icbainc.com/event/2024-southwest-college-bookstore-association-annual-meeting-expo-2/
LOCATION:Atherton Hotel\, H-103 Student Union\, Stillwater\, OK\, 74078\, United States
CATEGORIES:State & Regional Events
ATTACH;FMTTYPE=image/jpeg:https://icbainc.com/wp-content/uploads/2018/09/SWCBA.jpg
ORGANIZER;CN="Southwest College Bookstore Association (SWCBA)":MAILTO:swcba@swcba.com
END:VEVENT
BEGIN:VEVENT
DTSTART;TZID=UTC:20241020T080000
DTEND;TZID=UTC:20241023T170000
DTSTAMP:20260421T061312
CREATED:20241017T122146Z
LAST-MODIFIED:20241017T122146Z
UID:30171-1729411200-1729702800@icbainc.com
SUMMARY:Northwest College Bookstore Association 2024 Fall Meeting
DESCRIPTION:Join us at the NCBA 2024 Fall Meeting\, October 21-23. Membership Manager Riley Egan and VP of Membership & Operations Sonda Uitermarkt will be in attendance and at the trade show; we'll also deliver the presentations "What's Hot" in GM and "Building Healthy Supplier Partnerships."
URL:https://icbainc.com/event/northwest-college-bookstore-association-2024-fall-meeting-2/
LOCATION:Holiday Inn Portland\, Columbia Riverfront\, 909 N Hayden Island Drive\, Portland\, OR\, 97217\, United States
CATEGORIES:State & Regional Events
ATTACH;FMTTYPE=image/jpeg:https://icbainc.com/wp-content/uploads/2023/09/northwest-college-bs.jpg
END:VEVENT
END:VCALENDAR