BEGIN:VCALENDAR
VERSION:2.0
PRODID:-//Independent College Bookstore Association - ECPv6.15.17//NONSGML v1.0//EN
CALSCALE:GREGORIAN
METHOD:PUBLISH
X-ORIGINAL-URL:https://icbainc.com
X-WR-CALDESC:Events for Independent College Bookstore Association
REFRESH-INTERVAL;VALUE=DURATION:PT1H
X-Robots-Tag:noindex
X-PUBLISHED-TTL:PT1H
BEGIN:VTIMEZONE
TZID:UTC
BEGIN:STANDARD
TZOFFSETFROM:+0000
TZOFFSETTO:+0000
TZNAME:UTC
DTSTART:20240101T000000
END:STANDARD
END:VTIMEZONE
BEGIN:VTIMEZONE
TZID:America/Los_Angeles
BEGIN:DAYLIGHT
TZOFFSETFROM:-0800
TZOFFSETTO:-0700
TZNAME:PDT
DTSTART:20240310T100000
END:DAYLIGHT
BEGIN:STANDARD
TZOFFSETFROM:-0700
TZOFFSETTO:-0800
TZNAME:PST
DTSTART:20241103T090000
END:STANDARD
BEGIN:DAYLIGHT
TZOFFSETFROM:-0800
TZOFFSETTO:-0700
TZNAME:PDT
DTSTART:20250309T100000
END:DAYLIGHT
BEGIN:STANDARD
TZOFFSETFROM:-0700
TZOFFSETTO:-0800
TZNAME:PST
DTSTART:20251102T090000
END:STANDARD
BEGIN:DAYLIGHT
TZOFFSETFROM:-0800
TZOFFSETTO:-0700
TZNAME:PDT
DTSTART:20260308T100000
END:DAYLIGHT
BEGIN:STANDARD
TZOFFSETFROM:-0700
TZOFFSETTO:-0800
TZNAME:PST
DTSTART:20261101T090000
END:STANDARD
END:VTIMEZONE
BEGIN:VEVENT
DTSTART;TZID=UTC:20250122T080000
DTEND;TZID=UTC:20250124T170000
DTSTAMP:20260420T072600
CREATED:20241211T142239Z
LAST-MODIFIED:20241211T142625Z
UID:30630-1737532800-1737738000@icbainc.com
SUMMARY:2025 Sports Licensing & Tailgate Show
DESCRIPTION:  \nThe Sports Licensing & Tailgate Show is for brand owners\, licensors\, licensees and retailers interested in sports licensed products. Attendees will have the chance to see some ~400 exhibiting companies. This show is continuing to grow in popularity with college stores\, and ICBA will once again be attending this year. After hours\, we will be hosting an informal gathering for ICBA Members! \nICBA Member Reception\nThursday\, Jan 23 | 6:30 - 8 PM\nClick below link\, visible when logged in\, or search your email for the RSVP!
URL:https://icbainc.com/event/2025-sports-licensing-tailgate-show/
LOCATION:Las Vegas Convention Center\, Las Vegas\, NV\, United States
CATEGORIES:Industry Conference
ATTACH;FMTTYPE=image/png:https://icbainc.com/wp-content/uploads/2018/09/SLTS_Logo_RGB-e1544031379596.png
END:VEVENT
BEGIN:VEVENT
DTSTART;TZID=America/Los_Angeles:20250123T183000
DTEND;TZID=America/Los_Angeles:20250123T200000
DTSTAMP:20260420T072600
CREATED:20241211T143116Z
LAST-MODIFIED:20241211T143116Z
UID:30631-1737657000-1737662400@icbainc.com
SUMMARY:ICBA Member Reception at Sports Licensing and Tailgate Show
DESCRIPTION:Over the years\, more and more ICBA Members have been attending SLTS and we hope to see you there! We’ll be hosting an ICBA Members SLTS reception right on The Strip at Virgil’s Real BBQ at the LINQ Promenade. RSVP below--the link is visible when logged in!
URL:https://icbainc.com/event/icba-member-reception-at-sports-licensing-and-tailgate-show/
LOCATION:Virgils Real BBQ\, 3545 Las Vegas Blvd.\, Las Vegas\, NV\, 89109
CATEGORIES:ICBA Member Store Events,ICBA Webinars,Industry Conference
END:VEVENT
END:VCALENDAR